BEGIN:VCALENDAR
VERSION:2.0
PRODID:-//eventon.com NONSGML v1.0//EN
BEGIN:VEVENT
UID:69e756c70830d
DTSTAMP:20260421T125151
DTSTART:20260109T180000Z
DTEND:20260109T210000Z
LOCATION:
SUMMARY:2026 / Tanzabend im Thermalhotel Fontana in Bad Radkersburg
DESCRIPTION: 2026 / Tanzabend im Thermalhotel Fontana in Bad Radkersburg
END:VEVENT
END:VCALENDAR