BEGIN:VCALENDAR
VERSION:2.0
PRODID:-//eventon.com NONSGML v1.0//EN
BEGIN:VEVENT
UID:69e755fd831e0
DTSTAMP:20260421T124829
DTSTART:20261016T220000Z
DTEND:20261016T220000Z
LOCATION:
SUMMARY:2026 / Konzert Jess Robin & Band\,  Christa Fartek & Robert F. Neil Diamond Moments- Komm Zentrum Leitersdorf ( klick hier!)
DESCRIPTION: 
END:VEVENT
END:VCALENDAR