BEGIN:VCALENDAR
VERSION:2.0
PRODID:-//eventon.com NONSGML v1.0//EN
BEGIN:VEVENT
UID:69e7565905c17
DTSTAMP:20260421T125001
DTSTART:20251202T120000Z
DTEND:20251202T160000Z
LOCATION:
SUMMARY:2025 / Adventkaffee mit Musik & Lesung mit der Vulkanlanddichtergilde im Betreuten Wohnen in Feldbach
DESCRIPTION: 
END:VEVENT
END:VCALENDAR