BEGIN:VCALENDAR
VERSION:2.0
PRODID:-//eventon.com NONSGML v1.0//EN
BEGIN:VEVENT
UID:69e755a8b9faa
DTSTAMP:20260421T124704
DTSTART:20251108T184000Z
DTEND:20251107T224000Z
LOCATION:
SUMMARY:2025 / Bacherlwirt Hengsberg
DESCRIPTION: 2025 / Bacherlwirt Hengsberg
END:VEVENT
END:VCALENDAR