BEGIN:VCALENDAR
VERSION:2.0
PRODID:-//eventon.com NONSGML v1.0//EN
BEGIN:VEVENT
UID:69e7571e2171c
DTSTAMP:20260421T125318
DTSTART:20251119T120000Z
DTEND:20251119T160000Z
LOCATION:
SUMMARY:2025 / Novapark Graz geschlossene Veranstaltung!
DESCRIPTION: 2025 / Novapark Graz geschlossene Veranstaltung!
END:VEVENT
END:VCALENDAR