BEGIN:VCALENDAR
VERSION:2.0
PRODID:-//eventon.com NONSGML v1.0//EN
BEGIN:VEVENT
UID:69e7563eb8377
DTSTAMP:20260421T124934
DTSTART:20260530T130000Z
DTEND:20260529T220000Z
LOCATION:
SUMMARY:2025 / Musik und Country Abend in Eggenburg / NÖ ( klick unten!)
DESCRIPTION: 
END:VEVENT
END:VCALENDAR