BEGIN:VCALENDAR
VERSION:2.0
PRODID:-//eventon.com NONSGML v1.0//EN
BEGIN:VEVENT
UID:69e7577729881
DTSTAMP:20260421T125447
DTSTART:20261231T183000Z
DTEND:20261231T000000Z
LOCATION:
SUMMARY:2026 / Hotel Triest in Bad Radkersburg
DESCRIPTION: 2026 / Hotel Triest in Bad Radkersburg
END:VEVENT
END:VCALENDAR