BEGIN:VCALENDAR
VERSION:2.0
PRODID:-//eventon.com NONSGML v1.0//EN
BEGIN:VEVENT
UID:69e7576251fac
DTSTAMP:20260421T125426
DTSTART:20260217T070000Z
DTEND:20260217T100000Z
LOCATION:
SUMMARY:2026 / WEGEN TRAUERFALL ABGESAGT! Fasching im Cafe Jörg Wolf Hauptplatz 22\,  8330 Feldbach
DESCRIPTION: 
END:VEVENT
END:VCALENDAR