BEGIN:VCALENDAR
VERSION:2.0
PRODID:-//eventon.com NONSGML v1.0//EN
BEGIN:VEVENT
UID:69e755e18d7e6
DTSTAMP:20260421T124801
DTSTART:20260123T160000Z
DTEND:20260123T190000Z
LOCATION:
SUMMARY:2026 / Klinikum
DESCRIPTION: 2026 / Klinikum
END:VEVENT
END:VCALENDAR