BEGIN:VCALENDAR
VERSION:2.0
PRODID:-//eventon.com NONSGML v1.0//EN
BEGIN:VEVENT
UID:69e755e04a590
DTSTAMP:20260421T124800
DTSTART:20260402T160000Z
DTEND:20260402T190000Z
LOCATION:
SUMMARY:2026 / Klinikum
DESCRIPTION: 2026 / Klinikum
END:VEVENT
END:VCALENDAR