BEGIN:VCALENDAR
VERSION:2.0
PRODID:-//eventon.com NONSGML v1.0//EN
BEGIN:VEVENT
UID:69e7635189fca
DTSTAMP:20260421T134521
DTSTART:20260206T180000Z
DTEND:20260206T210000Z
LOCATION:
SUMMARY:2026 / Wegen Trauerfall abgesagt! Tanzabend im Thermalhotel Fontana in Bad Radkersburg
DESCRIPTION: 2026 / Wegen Trauerfall abgesagt! Tanzabend im Thermalhotel Fontana in Bad Radkersburg
END:VEVENT
END:VCALENDAR