BEGIN:VCALENDAR
VERSION:2.0
PRODID:-//eventon.com NONSGML v1.0//EN
BEGIN:VEVENT
UID:69e73e38f1048
DTSTAMP:20260421T110704
DTSTART:20260410T180000Z
DTEND:20260410T210000Z
LOCATION:
SUMMARY:2026 / Tanzabend im Thermalhotel Fontana in Bad Radkersburg
DESCRIPTION: 2026 / Tanzabend im Thermalhotel Fontana in Bad Radkersburg
END:VEVENT
END:VCALENDAR