BEGIN:VCALENDAR
VERSION:2.0
PRODID:-//eventon.com NONSGML v1.0//EN
BEGIN:VEVENT
UID:69e7576239fa1
DTSTAMP:20260421T125426
DTSTART:20260612T160000Z
DTEND:20260612T200000Z
LOCATION:
SUMMARY:2026 / COUNTRYABEND beim WEBERGRILL in Graz Seiersberg
DESCRIPTION: 
END:VEVENT
END:VCALENDAR