BEGIN:VCALENDAR
VERSION:2.0
PRODID:-//eventon.com NONSGML v1.0//EN
BEGIN:VEVENT
UID:69e756bebcd56
DTSTAMP:20260421T125142
DTSTART:20260613T160000Z
DTEND:20260613T200000Z
LOCATION:
SUMMARY:2026 / COUNTRYABEND beim WEBERGRILL in Graz Seiersberg
DESCRIPTION: 
END:VEVENT
END:VCALENDAR