BEGIN:VCALENDAR
VERSION:2.0
PRODID:-//eventon.com NONSGML v1.0//EN
BEGIN:VEVENT
UID:69e7571fa2bc2
DTSTAMP:20260421T125319
DTSTART:20251207T090000Z
DTEND:20251207T120000Z
LOCATION:
SUMMARY:2025 / Fernsehfrühschoppen mit MEMA TV / Bruck an der Mur
DESCRIPTION: 
END:VEVENT
END:VCALENDAR