BEGIN:VCALENDAR
VERSION:2.0
PRODID:-//eventon.com NONSGML v1.0//EN
BEGIN:VEVENT
UID:69e7570dde3a1
DTSTAMP:20260421T125301
DTSTART:20261128T150000Z
DTEND:20261128T203000Z
LOCATION:
SUMMARY:2026 / Weihnachtskonzert Christa Fartek
DESCRIPTION: 2026 / Weihnachtskonzert Christa Fartek
END:VEVENT
END:VCALENDAR