BEGIN:VCALENDAR
VERSION:2.0
PRODID:-//eventon.com NONSGML v1.0//EN
BEGIN:VEVENT
UID:69e756c6ea2f7
DTSTAMP:20260421T125150
DTSTART:20260430T170000Z
DTEND:20260429T220000Z
LOCATION:
SUMMARY:2026 / Band für Steiermark - ALEX REHAK Kulturhalle Sinalbelkirchen ( klicke unten!)
DESCRIPTION: 
END:VEVENT
END:VCALENDAR