BEGIN:VCALENDAR
VERSION:2.0
PRODID:-//eventon.com NONSGML v1.0//EN
BEGIN:VEVENT
UID:69e75657c7cbf
DTSTAMP:20260421T124959
DTSTART:20260131T163000Z
DTEND:20260131T200000Z
LOCATION:
SUMMARY:2026 / Wegen Trauerfall abgesagt! Schlager & Country inkl. Singlepräsentation < If I could>  Bacherlwirt in Hengsberg!
DESCRIPTION: 
END:VEVENT
END:VCALENDAR