BEGIN:VCALENDAR
VERSION:2.0
PRODID:-//eventon.com NONSGML v1.0//EN
BEGIN:VEVENT
UID:69e756c80c7c3
DTSTAMP:20260421T125152
DTSTART:20260124T090000Z
DTEND:20260124T150000Z
LOCATION:
SUMMARY:2026 / Wegen Trauerfall Abgesagt! Fanclubtreffen Christa Fartek ( siehe Text unten!)
DESCRIPTION: EINLADUNG ZUM FANCLUBTREFFEN CHRISTA FARTEK Jänner 2026 START: Treffpunkt ab 9:00 Café Posch 11:00 Zeitreise in die Nostalgiewelt Posch – Oldtimer\,  Flugzeuge u.m. Eintrittspreis: € 9.- 12:30 Abfahrt zum Cafe Jörg Wolf zum Mittagessen mit Schweinsbraten mit Knödel und Kraut\,  Kaffee und Kuchen Am Nachmittag fröhliches Zusammen sein!   ENDE:[..]
END:VEVENT
END:VCALENDAR