BEGIN:VCALENDAR
VERSION:2.0
PRODID:-//eventon.com NONSGML v1.0//EN
BEGIN:VEVENT
UID:69e75777172ed
DTSTAMP:20260421T125447
DTSTART:20260814T220000Z
DTEND:20260814T220000Z
LOCATION:
SUMMARY:2026 / Reserviert!
DESCRIPTION: 2026 / Reserviert!
END:VEVENT
END:VCALENDAR