BEGIN:VCALENDAR
VERSION:2.0
PRODID:-//eventon.com NONSGML v1.0//EN
BEGIN:VEVENT
UID:69e7571ed77f9
DTSTAMP:20260421T125318
DTSTART:20261130T220000Z
DTEND:20261130T220000Z
LOCATION:
SUMMARY:2026 / Reserviert!
DESCRIPTION: 2026 / Reserviert!
END:VEVENT
END:VCALENDAR