BEGIN:VCALENDAR
VERSION:2.0
PRODID:-//eventon.com NONSGML v1.0//EN
BEGIN:VEVENT
UID:69e75708009f2
DTSTAMP:20260421T125256
DTSTART:20260510T073000Z
DTEND:20260510T130000Z
LOCATION:
SUMMARY:2026 / Muttertagsevent Arena Feldbach mit Christa Fartek\,  Monika Martin\,  Silvio Samoni\,  Manfred Fartek
DESCRIPTION: ÖE Ticket und INFOS hier: https://www.oeticket.com/artist/monika-martin/muttertagsevent-2026-feldbach-3944560/ &nbsp; &nbsp;
END:VEVENT
END:VCALENDAR