BEGIN:VCALENDAR
VERSION:2.0
PRODID:-//eventon.com NONSGML v1.0//EN
BEGIN:VEVENT
UID:69e756631f4b0
DTSTAMP:20260421T125011
DTSTART:20260522T180000Z
DTEND:20260522T210000Z
LOCATION:
SUMMARY:2026 / Tanzabend im Thermalhotel Fontana in Bad Radkersburg
DESCRIPTION: 2026 / Tanzabend im Thermalhotel Fontana in Bad Radkersburg
END:VEVENT
END:VCALENDAR