BEGIN:VCALENDAR
VERSION:2.0
PRODID:-//eventon.com NONSGML v1.0//EN
BEGIN:VEVENT
UID:69e7564c41e86
DTSTAMP:20260421T124948
DTSTART:20260619T180000Z
DTEND:20260619T210000Z
LOCATION:
SUMMARY:2026 / Tanzabend im Thermalhotel Fontana in Bad Radkersburg
DESCRIPTION: 2026 / Tanzabend im Thermalhotel Fontana in Bad Radkersburg
END:VEVENT
END:VCALENDAR