BEGIN:VCALENDAR
VERSION:2.0
PRODID:-//eventon.com NONSGML v1.0//EN
BEGIN:VEVENT
UID:69e7571ef2a76
DTSTAMP:20260421T125318
DTSTART:20260703T180000Z
DTEND:20260703T210000Z
LOCATION:
SUMMARY:2026 / Tanzabend im Thermalhotel Fontana in Bad Radkersburg
DESCRIPTION: 2026 / Tanzabend im Thermalhotel Fontana in Bad Radkersburg
END:VEVENT
END:VCALENDAR