BEGIN:VCALENDAR
VERSION:2.0
PRODID:-//eventon.com NONSGML v1.0//EN
BEGIN:VEVENT
UID:69e7570964eed
DTSTAMP:20260421T125257
DTSTART:20260312T160000Z
DTEND:20260312T190000Z
LOCATION:
SUMMARY:2026 / Eröffnung FRAU UND ERFOLG / Murinsel Graz
DESCRIPTION: „Frauen & Erfolg“ – Eine Ausstellung über Mut\,  Stärke und den eigenen Weg 18 Porträts erfolgreicher Frauen aus Graz Echte Geschichten über Herausforderungen und Durchbrüche Inspiration\,  Tiefe und weibliche Kraft Mit Interviews & begleitendem Buchprojekt und tolle Auftritte von wunderbaren Sängern Murinsel Graz 23.02. – 15.04. Eröffnung: 12. März\,  18:00[..]
END:VEVENT
END:VCALENDAR