BEGIN:VCALENDAR
VERSION:2.0
PRODID:-//eventon.com NONSGML v1.0//EN
BEGIN:VEVENT
UID:69e5e417ba8b9
DTSTAMP:20260420T103015
DTSTART:20260425T210000Z
DTEND:20260425T213000Z
LOCATION:
SUMMARY:2026 / Dachboden Theater 2.0 in Bruck an der Mur ( Klick hier! )
DESCRIPTION: 
END:VEVENT
END:VCALENDAR