BEGIN:VCALENDAR
VERSION:2.0
PRODID:-//eventon.com NONSGML v1.0//EN
BEGIN:VEVENT
UID:69e5e7109e28a
DTSTAMP:20260420T104256
DTSTART:20260424T160000Z
DTEND:20260424T190000Z
LOCATION:
SUMMARY:2026 / Klinikum
DESCRIPTION: 2026 / Klinikum
END:VEVENT
END:VCALENDAR