BEGIN:VCALENDAR
VERSION:2.0
PRODID:-//eventon.com NONSGML v1.0//EN
BEGIN:VEVENT
UID:69e7563e3c0a8
DTSTAMP:20260421T124934
DTSTART:20260731T163000Z
DTEND:20260731T193000Z
LOCATION:
SUMMARY:2026 / Klinikum
DESCRIPTION: 2026 / Klinikum
END:VEVENT
END:VCALENDAR