BEGIN:VCALENDAR
VERSION:2.0
PRODID:-//eventon.com NONSGML v1.0//EN
BEGIN:VEVENT
UID:69e756a697f8f
DTSTAMP:20260421T125118
DTSTART:20260925T160000Z
DTEND:20260925T183000Z
LOCATION:
SUMMARY:2026 / Klinikum
DESCRIPTION: 2026 / Klinikum
END:VEVENT
END:VCALENDAR