BEGIN:VCALENDAR
VERSION:2.0
PRODID:-//eventon.com NONSGML v1.0//EN
BEGIN:VEVENT
UID:69e754ce7aa16
DTSTAMP:20260421T124326
DTSTART:20260731T220000Z
DTEND:20260731T220000Z
LOCATION:
SUMMARY:2026 / Privatveranstaltung Mooskirchen
DESCRIPTION: 2026 / Privatveranstaltung Mooskirchen
END:VEVENT
END:VCALENDAR