BEGIN:VCALENDAR
VERSION:2.0
PRODID:-//eventon.com NONSGML v1.0//EN
BEGIN:VEVENT
UID:69e754c3aefb6
DTSTAMP:20260421T124315
DTSTART:20261211T123000Z
DTEND:20261211T150000Z
LOCATION:
SUMMARY:2026 / Musik & Poesie / Bad Radkersburg
DESCRIPTION: 2026 / Musik & Poesie / Bad Radkersburg
END:VEVENT
END:VCALENDAR