BEGIN:VCALENDAR
VERSION:2.0
PRODID:-//eventon.com NONSGML v1.0//EN
BEGIN:VEVENT
UID:69e754c887370
DTSTAMP:20260421T124320
DTSTART:20261220T120000Z
DTEND:20261220T150000Z
LOCATION:
SUMMARY:Kirchenkonzert in St. Peter am Ottersbach / STMK
DESCRIPTION: Nähere INFOS folgen....
END:VEVENT
END:VCALENDAR