BEGIN:VCALENDAR
VERSION:2.0
PRODID:-//eventon.com NONSGML v1.0//EN
BEGIN:VEVENT
UID:69e754ce407c0
DTSTAMP:20260421T124326
DTSTART:20270313T120000Z
DTEND:20270313T160000Z
LOCATION:
SUMMARY:2027 / Musik\,  Tanz und Poesie im Gasthaus Amschl in Mühldorf bei Feldbach
DESCRIPTION: Mit der Vulkanlanddichtergilde Christina Monschein Musik: Christa Fartek\,  Robert F.\,  CHES\,  Manfred Fartek und Duo Amor
END:VEVENT
END:VCALENDAR