BEGIN:VCALENDAR
VERSION:2.0
PRODID:-//eventon.com NONSGML v1.0//EN
BEGIN:VEVENT
UID:69e754c3aa892
DTSTAMP:20260421T124315
DTSTART:20261120T173000Z
DTEND:20261119T220000Z
LOCATION:
SUMMARY:2026 / Benefizkonzert Haus der Hoffnung /  Kulturhalle Ebersdorf
DESCRIPTION: 2026 / Benefizkonzert Haus der Hoffnung /  Kulturhalle Ebersdorf
END:VEVENT
END:VCALENDAR