BEGIN:VCALENDAR
VERSION:2.0
PRODID:-//eventon.com NONSGML v1.0//EN
BEGIN:VEVENT
UID:69e754c5c5f7f
DTSTAMP:20260421T124317
DTSTART:20260703T220000Z
DTEND:20260703T220000Z
LOCATION:
SUMMARY:2026 / PRIVATVERANSTALTUNG
DESCRIPTION: 2026 / PRIVATVERANSTALTUNG
END:VEVENT
END:VCALENDAR