BEGIN:VCALENDAR
VERSION:2.0
PRODID:-//eventon.com NONSGML v1.0//EN
BEGIN:VEVENT
UID:69e5e3c9b0553
DTSTAMP:20260420T102857
DTSTART:20260420T090000Z
DTEND:20260420T130000Z
LOCATION:
SUMMARY:2026 / Pressekonferenz NOVAPARK Graz
DESCRIPTION: 2026 / Pressekonferenz NOVAPARK Graz
END:VEVENT
END:VCALENDAR