BEGIN:VCALENDAR
VERSION:2.0
PRODID:-//eventon.com NONSGML v1.0//EN
BEGIN:VEVENT
UID:69e754c6ce45f
DTSTAMP:20260421T124318
DTSTART:20261126T170000Z
DTEND:20261126T193000Z
LOCATION:
SUMMARY:2026 / Christa Fartek & Robert F. / Weihnachtslieder & Lesung der Vulkanlanddichtergilde im Gemeindesaal in Gniebing / Feldbach
DESCRIPTION: 2026 / Christa Fartek & Robert F. / Weihnachtslieder & Lesung der Vulkanlanddichtergilde im Gemeindesaal in Gniebing / Feldbach
END:VEVENT
END:VCALENDAR