BEGIN:VCALENDAR
VERSION:2.0
PRODID:-//eventon.com NONSGML v1.0//EN
BEGIN:VEVENT
UID:69e754c75d447
DTSTAMP:20260421T124319
DTSTART:20270619T160000Z
DTEND:20270618T220000Z
LOCATION:
SUMMARY:2027 / Dämmerschoppen Klöch / Christa Fartek Family
DESCRIPTION: 2027 / Dämmerschoppen Klöch / Christa Fartek Family
END:VEVENT
END:VCALENDAR