BEGIN:VCALENDAR
VERSION:2.0
PRODID:-//eventon.com NONSGML v1.0//EN
BEGIN:VEVENT
UID:69e754c605d71
DTSTAMP:20260421T124318
DTSTART:20260806T170000Z
DTEND:20260806T210000Z
LOCATION:
SUMMARY:2026 / Daystar Asia Restaurant Knittelfeld
DESCRIPTION: https://www.daystar-asia.at
END:VEVENT
END:VCALENDAR