BEGIN:VCALENDAR
VERSION:2.0
PRODID:-//eventon.com NONSGML v1.0//EN
BEGIN:VEVENT
UID:69e75664c1166
DTSTAMP:20260421T125012
DTSTART:20160807T123000Z
DTEND:20160807T160000Z
LOCATION:
SUMMARY:2016 / Christa Fartek als Gastsängerin der FF im Zelt in Spitz
DESCRIPTION: 
END:VEVENT
END:VCALENDAR