BEGIN:VCALENDAR
VERSION:2.0
PRODID:-//eventon.com NONSGML v1.0//EN
BEGIN:VEVENT
UID:69e600ad611f7
DTSTAMP:20260420T123213
DTSTART:20161201T173000Z
DTEND:20161201T193000Z
LOCATION:
SUMMARY:Adventkonzert Christa Fartek " Licht in der Nacht" im Kurhaus Bad Gleichenberg
DESCRIPTION: Adventkonzert Christa Fartek " Licht in der Nacht" im Kurhaus Bad Gleichenberg
END:VEVENT
END:VCALENDAR