BEGIN:VCALENDAR
VERSION:2.0
PRODID:-//eventon.com NONSGML v1.0//EN
BEGIN:VEVENT
UID:69e707c3241ca
DTSTAMP:20260421T071443
DTSTART:20170401T173000Z
DTEND:20170401T193000Z
LOCATION:
SUMMARY:2017 / Tanzabend mit Christa Fartek in der Hotelbar im KURHAUS in Bad Gleichenberg
DESCRIPTION: DAS KURHAUS Bad Gleichenberg Untere Brunnenstraße 33 | A-8344 Bad Gleichenberg www.daskurhaus.at T +43 (0) 3159 2294 4064 | F +43 (0) 3159 2294 4501
END:VEVENT
END:VCALENDAR